BEGIN:VCALENDAR
VERSION:2.0
PRODID:-//AudioTheme 1.6.2
BEGIN:VEVENT
UID:http://classicsingersongwriters.co.uk/sandg/?post_type=audiotheme_gig&#038;p=83
URL:https://classicsingersongwriters.co.uk/sandg/shows/winster-village-hall/
DTSTART;TZID=GMT:20240824T183000
SUMMARY:A Celebration of Simon & Garfunkel Lakes Bank Holiday August Weekend Special.
DESCRIPTION:Great to be back at Winster for 1 night only.
LOCATION:Winster Village Hall\, Winster Village Hall\, Winster\, \, Windermere\, Cumbria\, LA23 3NR
END:VEVENT
END:VCALENDAR