BEGIN:VCALENDAR
VERSION:2.0
PRODID:-//AudioTheme 1.6.2
BEGIN:VEVENT
UID:http://classicsingersongwriters.co.uk/sandg/?post_type=audiotheme_gig&#038;p=102
URL:https://classicsingersongwriters.co.uk/sandg/shows/windemere-golf-club/
DTSTART;TZID=GMT:20141024T190000
SUMMARY:Windermere Golf Club
DESCRIPTION:Back again following last years success.
LOCATION:Windermere Golf Club \, Cleabarrow\, \, Windermere\, Cumbria\, United Kingdom\, LA23 3BN
END:VEVENT
END:VCALENDAR