BEGIN:VCALENDAR
VERSION:2.0
PRODID:-//AudioTheme 1.6.2
BEGIN:VEVENT
UID:http://classicsingersongwriters.co.uk/sandg/?post_type=audiotheme_gig&#038;p=295
URL:https://classicsingersongwriters.co.uk/sandg/shows/victoria-hall-2/
DTSTART;TZID=GMT:20160522T133000
SUMMARY:A Celebration of Simon & Garfunkel
DESCRIPTION:Special Sunday Matinee Performance.
LOCATION:Victoria Hall \, Maine Street\, \, Grange over Sands\, Cumbria\, UK\, LA11 6DP
END:VEVENT
END:VCALENDAR