BEGIN:VCALENDAR
VERSION:2.0
PRODID:-//AudioTheme 1.6.2
BEGIN:VEVENT
UID:http://classicsingersongwriters.co.uk/sandg/?post_type=audiotheme_gig&#038;p=375
URL:https://classicsingersongwriters.co.uk/sandg/shows/threlkeld-village-hall/
DTSTART;TZID=GMT:20250207T200000
SUMMARY:Threlkeld Village Hall
DESCRIPTION:Great to be back after 9 years
LOCATION:Threlkeld Village Hall\, Station Road \, Threlkeld \, Cumbria  \, UK\, CA12 4RT 
END:VEVENT
END:VCALENDAR