BEGIN:VCALENDAR
VERSION:2.0
PRODID:-//AudioTheme 1.6.2
BEGIN:VEVENT
UID:http://classicsingersongwriters.co.uk/sandg/?post_type=audiotheme_gig&#038;p=419
URL:https://classicsingersongwriters.co.uk/sandg/shows/thornton-little-theatre/
DTSTART;TZID=GMT:20230311T193000
SUMMARY:A Celebration of Simon & Garfunkel
DESCRIPTION:Always great to come back and perform at this great little theatre.
LOCATION:Thornton Little Theatre\, Fleetwood Road North\,\, Thornton\, Cleveleys\, UK\, FY5 3SZ
END:VEVENT
END:VCALENDAR