BEGIN:VCALENDAR
VERSION:2.0
PRODID:-//AudioTheme 1.6.2
BEGIN:VEVENT
UID:http://classicsingersongwriters.co.uk/sandg/?post_type=audiotheme_gig&#038;p=318
URL:https://classicsingersongwriters.co.uk/sandg/shows/the-beggars-theatre/
DTSTART;TZID=GMT:20250329T200000
SUMMARY:A Celebration of Simon & Garfunkel
LOCATION:Beggar's Theatre\, Market Square\, \, Millom\, Cumbria\, United Kingdom\, LA184HZ
END:VEVENT
END:VCALENDAR