BEGIN:VCALENDAR
VERSION:2.0
PRODID:-//AudioTheme 1.6.2
BEGIN:VEVENT
UID:http://classicsingersongwriters.co.uk/sandg/?post_type=audiotheme_gig&#038;p=370
URL:https://classicsingersongwriters.co.uk/sandg/shows/storth-village-hall/
DTSTART;TZID=GMT:20221015T183000
SUMMARY:Storth Village Hall
DESCRIPTION:Great to play at Storth
LOCATION:Storth Village Hall\, Storth Road  \, Storth\, Cumbria\, UK\, LA7 7PH
END:VEVENT
END:VCALENDAR