BEGIN:VCALENDAR
VERSION:2.0
PRODID:-//AudioTheme 1.6.2
BEGIN:VEVENT
UID:http://classicsingersongwriters.co.uk/sandg/?post_type=audiotheme_gig&#038;p=287
URL:https://classicsingersongwriters.co.uk/sandg/shows/skipton-town-hall/
DTSTART;TZID=GMT:20150724T190000
SUMMARY:Skipton Town Hall
LOCATION:Skipton Town Hall\,  High Street\, Town Hall\, \, Skipton\, North Yorkshire\, UK\, BD23 1AH 
END:VEVENT
END:VCALENDAR