BEGIN:VCALENDAR
VERSION:2.0
PRODID:-//AudioTheme 1.6.2
BEGIN:VEVENT
UID:http://classicsingersongwriters.co.uk/sandg/?post_type=audiotheme_gig&#038;p=357
URL:https://classicsingersongwriters.co.uk/sandg/shows/silverdale-golf-club/
DTSTART;TZID=GMT:20180929T183000
SUMMARY:A Celebration of Simon & Garfunkel
DESCRIPTION:Always great to return here.
LOCATION:Silverdale Golf Club\, Redbridge Lane\,\,  Silverdale\, Carnforth\, UK\,  LA5 0SP
END:VEVENT
END:VCALENDAR