BEGIN:VCALENDAR
VERSION:2.0
PRODID:-//AudioTheme 1.6.2
BEGIN:VEVENT
UID:http://classicsingersongwriters.co.uk/sandg/?post_type=audiotheme_gig&#038;p=354
URL:https://classicsingersongwriters.co.uk/sandg/shows/settle-victoria-hall/
DTSTART;TZID=GMT:20250314T193000
SUMMARY:Settle Victoria Hall
LOCATION:Settle Victoria Hall\, Kirkgate\, Settle\, Yorkshire\, UK\, BD24 9DZ
END:VEVENT
END:VCALENDAR