BEGIN:VCALENDAR
VERSION:2.0
PRODID:-//AudioTheme 1.6.2
BEGIN:VEVENT
UID:http://classicsingersongwriters.co.uk/sandg/?post_type=audiotheme_gig&#038;p=219
URL:https://classicsingersongwriters.co.uk/sandg/shows/sedbergh-peoples-hall/
DTSTART;TZID=GMT:20141121T201500
SUMMARY:Sedbergh Peoples Hall
LOCATION:Sedbergh Peoples Hall\, Howgill Lane\, \, Sedbergh\, Cumbria\, UK\, LA10 5DQ
END:VEVENT
END:VCALENDAR