BEGIN:VCALENDAR
VERSION:2.0
PRODID:-//AudioTheme 1.6.2
BEGIN:VEVENT
UID:http://classicsingersongwriters.co.uk/sandg/?post_type=audiotheme_gig&#038;p=454
URL:https://classicsingersongwriters.co.uk/sandg/shows/playhouse-2/
DTSTART;TZID=GMT:20210925T190000
SUMMARY:A Celebration of Simon & Garfunkel
DESCRIPTION:Look forward to performing for Playhouse 2 opening night following a long break!
LOCATION:Playhouse 2\, 2 Newtown St\, Shaw\, Oldham\, UK\, OL2 8NX
END:VEVENT
END:VCALENDAR