BEGIN:VCALENDAR
VERSION:2.0
PRODID:-//AudioTheme 1.6.2
BEGIN:VEVENT
UID:http://classicsingersongwriters.co.uk/sandg/?post_type=audiotheme_gig&#038;p=283
URL:https://classicsingersongwriters.co.uk/sandg/shows/pateley-bridge-memorial-hall/
DTSTART;TZID=GMT:20150227T201500
SUMMARY:Pateley Bridge Memorial Hall
LOCATION:a.k.a Bishopside & Bewerley Memorial Hall\, Park Road\, \, Pateley Bridge\, Yorkshire\, UK\, HG3 5JS
END:VEVENT
END:VCALENDAR