BEGIN:VCALENDAR
VERSION:2.0
PRODID:-//AudioTheme 1.6.2
BEGIN:VEVENT
UID:http://classicsingersongwriters.co.uk/sandg/?post_type=audiotheme_gig&#038;p=100
URL:https://classicsingersongwriters.co.uk/sandg/shows/over-kellet-village-hall/
DTSTART;TZID=GMT:20141017T183000
SUMMARY:Over Kellet Village Hall
LOCATION:Over Kellet Village Hall\, Church Bank\, \, Over Kellet\, Lancashire\, United Kingdom\, LA6 1DU
END:VEVENT
END:VCALENDAR