BEGIN:VCALENDAR
VERSION:2.0
PRODID:-//AudioTheme 1.6.2
BEGIN:VEVENT
UID:http://classicsingersongwriters.co.uk/sandg/?post_type=audiotheme_gig&#038;p=97
URL:https://classicsingersongwriters.co.uk/sandg/shows/north-ferriby-village-hall/
DTSTART;TZID=GMT:20250228T193000
SUMMARY:North Ferriby Village Hall
DESCRIPTION:Great to be back.
LOCATION:North Ferriby Village Hall\, 50 Church Road\, \, Ferriby\, Hull\, United Kingdom\, HU14 3AA
END:VEVENT
END:VCALENDAR