BEGIN:VCALENDAR
VERSION:2.0
PRODID:-//AudioTheme 1.6.2
BEGIN:VEVENT
UID:http://classicsingersongwriters.co.uk/sandg/?post_type=audiotheme_gig&#038;p=324
URL:https://classicsingersongwriters.co.uk/sandg/shows/leyland-golf-club/
DTSTART;TZID=GMT:20251210T200000
SUMMARY:A Celebration of Simon & Garfunkel
DESCRIPTION:Great to be here again for our local Xmas time show at Slaters.
LOCATION:Leyland Golf Club - Events @ Slaters\,  Wigan Road\, \, Leyland\, Lancashire\, UK\, PR25 5UD
END:VEVENT
END:VCALENDAR