BEGIN:VCALENDAR
VERSION:2.0
PRODID:-//AudioTheme 1.6.2
BEGIN:VEVENT
UID:http://classicsingersongwriters.co.uk/sandg/?post_type=audiotheme_gig&#038;p=360
URL:https://classicsingersongwriters.co.uk/sandg/shows/leyland-golf-club-2/
DTSTART;TZID=GMT:20150306T200000
SUMMARY:Leyland Golf Club
LOCATION:Leyland Golf Club - Events @ Slaters\,  Wigan Road\, \, Leyland\, Lancashire\, UK\, PR25 5UD
END:VEVENT
END:VCALENDAR