BEGIN:VCALENDAR
VERSION:2.0
PRODID:-//AudioTheme 1.6.2
BEGIN:VEVENT
UID:http://classicsingersongwriters.co.uk/sandg/?post_type=audiotheme_gig&#038;p=429
URL:https://classicsingersongwriters.co.uk/sandg/shows/greenodd-village-hall/
DTSTART;TZID=GMT:20160715T190000
SUMMARY:A Celebration of Simon & Garfunkel.
DESCRIPTION:Looking forward to our debut at this great well supported venue.
LOCATION:Greenodd Village Hall\, Ulverston\, Cumbria\, UK\, LA12 7QZ
END:VEVENT
END:VCALENDAR