BEGIN:VCALENDAR
VERSION:2.0
PRODID:-//AudioTheme 1.6.2
BEGIN:VEVENT
UID:http://classicsingersongwriters.co.uk/sandg/?post_type=audiotheme_gig&#038;p=75
URL:https://classicsingersongwriters.co.uk/sandg/shows/gig-75/
DTSTART;TZID=GMT:20140720T190000
SUMMARY:Whalley Village Hall
LOCATION:Whalley Village Hall\, Accrington Road\, Clitheroe\, \, Accrington\, Lancashire\, United Kingdom\, BB7 9TD
END:VEVENT
END:VCALENDAR