BEGIN:VCALENDAR
VERSION:2.0
PRODID:-//AudioTheme 1.6.2
BEGIN:VEVENT
UID:http://classicsingersongwriters.co.uk/sandg/?post_type=audiotheme_gig&#038;p=73
URL:https://classicsingersongwriters.co.uk/sandg/shows/gig-73/
DTSTART;TZID=GMT:20230722T190000
SUMMARY:A Celebration of Simon & Garfunkel.
DESCRIPTION:Great to be back!
LOCATION:Beggar's Theatre\, Market Square\, \, Millom\, Cumbria\, United Kingdom\, LA184HZ
END:VEVENT
END:VCALENDAR