BEGIN:VCALENDAR
VERSION:2.0
PRODID:-//AudioTheme 1.6.2
BEGIN:VEVENT
UID:http://classicsingersongwriters.co.uk/sandg/?post_type=audiotheme_gig&#038;p=221
URL:https://classicsingersongwriters.co.uk/sandg/shows/gig-221/
DTSTART;TZID=GMT:20241012T183000
SUMMARY:A Celebration of Simon & Garfunkel
LOCATION:Grizebeck Community Hall\, Grizebeck\, \, Kirkby in Furness\, Cumbria\, UK\, LA17 7XH
END:VEVENT
END:VCALENDAR