BEGIN:VCALENDAR
VERSION:2.0
PRODID:-//AudioTheme 1.6.2
BEGIN:VEVENT
UID:http://classicsingersongwriters.co.uk/sandg/?post_type=audiotheme_gig&#038;p=112
URL:https://classicsingersongwriters.co.uk/sandg/shows/gig-112/
DTSTART;TZID=GMT:20140711T183000
SUMMARY:St Michaels Village Hall
LOCATION:St Michael's Village Hall\, Blackpool Rd\, St Michael's on Wyre\, \, Blackpool\, Lancashire\, United Kingdom\, PR3 0UA
END:VEVENT
END:VCALENDAR