BEGIN:VCALENDAR
VERSION:2.0
PRODID:-//AudioTheme 1.6.2
BEGIN:VEVENT
UID:http://classicsingersongwriters.co.uk/sandg/?post_type=audiotheme_gig&#038;p=271
URL:https://classicsingersongwriters.co.uk/sandg/shows/corporate-event/
DTSTART;TZID=GMT:20140925T000000
SUMMARY:Corporate Event 
LOCATION:Corporate Event\, Corporate Event (Private)\, 
END:VEVENT
END:VCALENDAR