BEGIN:VCALENDAR
VERSION:2.0
PRODID:-//AudioTheme 1.6.2
BEGIN:VEVENT
UID:http://classicsingersongwriters.co.uk/sandg/?post_type=audiotheme_gig&#038;p=104
URL:https://classicsingersongwriters.co.uk/sandg/shows/charnock-farm/
DTSTART;TZID=GMT:20141211T193000
SUMMARY:Charnock Farm
LOCATION:Charnock Farm\, Wigan Road\, \, Leyland\, Lancashire\, United Kingdom\, PR25 5DA
END:VEVENT
END:VCALENDAR