BEGIN:VCALENDAR
VERSION:2.0
PRODID:-//AudioTheme 1.6.2
BEGIN:VEVENT
UID:http://classicsingersongwriters.co.uk/sandg/?post_type=audiotheme_gig&#038;p=285
URL:https://classicsingersongwriters.co.uk/sandg/shows/catforth-village-hall/
DTSTART;TZID=GMT:20150327T200000
SUMMARY:Catforth Village Hall 
LOCATION:Catforth Village Hall \,  Catforth Rd\, Catforth \, Preston\, Lancashire\, UK\, PR4 0HH
END:VEVENT
END:VCALENDAR