BEGIN:VCALENDAR
VERSION:2.0
PRODID:-//AudioTheme 1.6.2
BEGIN:VEVENT
UID:http://classicsingersongwriters.co.uk/sandg/?post_type=audiotheme_gig&#038;p=451
URL:https://classicsingersongwriters.co.uk/sandg/shows/brockenhurst-village-hall-2/
DTSTART;TZID=GMT:20160227T201500
SUMMARY:Brockenhurst Village Hall
DESCRIPTION:2 Night Special
LOCATION:Brockenhurst Village Hall\, Highwood Rd\, Brockenhurst\, \, Brockenhurst\, Hampshire \, United Kingdom\, S042 7RY
END:VEVENT
END:VCALENDAR