BEGIN:VCALENDAR
VERSION:2.0
PRODID:-//AudioTheme 1.6.2
BEGIN:VEVENT
UID:http://classicsingersongwriters.co.uk/sandg/?post_type=audiotheme_gig&#038;p=81
URL:https://classicsingersongwriters.co.uk/sandg/shows/bardsea-malt-kiln/
DTSTART;TZID=GMT:20140823T190000
SUMMARY:Bardsea Malt Kiln
LOCATION:Bardsea Malt Kiln\, Well lane\, Bardsea\, c/o Kirkgate\, Main street\, Bardsea\, \, Ulverston \, Cumbria \, United Kingdom\, LA129QT
END:VEVENT
END:VCALENDAR