BEGIN:VCALENDAR
VERSION:2.0
PRODID:-//AudioTheme 1.6.2
BEGIN:VEVENT
UID:http://classicsingersongwriters.co.uk/sandg/?post_type=audiotheme_gig&#038;p=316
URL:https://classicsingersongwriters.co.uk/sandg/shows/arnside-educational-institute/
DTSTART;TZID=GMT:20260405T183000
SUMMARY:A Celebration of Simon & Garfunkel
LOCATION:Live @ Arnside Sailing Club\,\, The Old Customs House\, 17 Promenade\, \, Arnside\, \, UK\, LA5 0HD
END:VEVENT
END:VCALENDAR