BEGIN:VCALENDAR
VERSION:2.0
PRODID:-//AudioTheme 1.6.2
BEGIN:VEVENT
UID:http://classicsingersongwriters.co.uk/sandg/?post_type=audiotheme_gig&#038;p=345
URL:https://classicsingersongwriters.co.uk/sandg/shows/a-celebration-of-simon-garfunkel-summer-concert-at-the-farm/
DTSTART;TZID=GMT:20150710T190000
SUMMARY:Charnock Farm @ Euxton
DESCRIPTION:Looking forward to our return in the summer.
LOCATION:Charnock Farm\, Wigan Road\, \, Leyland\, Lancashire\, United Kingdom\, PR25 5DA
END:VEVENT
END:VCALENDAR