BEGIN:VCALENDAR
VERSION:2.0
PRODID:-//AudioTheme 1.6.2
BEGIN:VEVENT
UID:http://classicsingersongwriters.co.uk/sandg/?post_type=audiotheme_gig&#038;p=362
URL:https://classicsingersongwriters.co.uk/sandg/shows/a-celebration-of-simon-garfunkel-lakes-summer-weekend/
DTSTART;TZID=GMT:20250516T183000
SUMMARY:A Celebration of Simon & Garfunkel.
DESCRIPTION:Great to be returning once again to Ambleside.
LOCATION:Ambleside Parish Centre\,  Vicarage Road\, \, Ambleside\, Cumbria\, United Kingdom\, LA22 9DH
END:VEVENT
END:VCALENDAR