BEGIN:VCALENDAR
VERSION:2.0
PRODID:-//AudioTheme 1.6.2
BEGIN:VEVENT
UID:http://classicsingersongwriters.co.uk/sandg/?post_type=audiotheme_gig&#038;p=366
URL:https://classicsingersongwriters.co.uk/sandg/shows/a-celebration-of-simon-garfunkel-lakes-summer-weekend-4/
DTSTART;TZID=GMT:20250524T183000
SUMMARY:A Celebration of Simon & Garfunkel
DESCRIPTION:Great to be back here
LOCATION:Staveley Village Hall\, Staveley Village Hall\, Abbey Square\, \, Staveley in Westmorland\, Cumbria\, United Kingdom\, LA8 9LY
END:VEVENT
END:VCALENDAR