BEGIN:VCALENDAR
VERSION:2.0
PRODID:-//AudioTheme 1.6.2
BEGIN:VEVENT
UID:http://classicsingersongwriters.co.uk/sandg/?post_type=audiotheme_gig&#038;p=365
URL:https://classicsingersongwriters.co.uk/sandg/shows/a-celebration-of-simon-garfunkel-lakes-summer-weekend-3/
DTSTART;TZID=GMT:20150830T190000
SUMMARY:A Celebration of Simon & Garfunkel Lakes Summer Weekend.
LOCATION:Winster Village Hall\, Winster Village Hall\, Winster\, \, Windermere\, Cumbria\, LA23 3NR
END:VEVENT
END:VCALENDAR