BEGIN:VCALENDAR
VERSION:2.0
PRODID:-//AudioTheme 1.6.2
BEGIN:VEVENT
UID:https://classicsingersongwriters.co.uk/sandg/?post_type=audiotheme_gig&#038;p=1078
URL:https://classicsingersongwriters.co.uk/sandg/shows/a-celebration-of-simon-garfunkel-97/
DTSTART;TZID=GMT:20240524T183000
SUMMARY:A Celebration of Simon & Garfunkel
DESCRIPTION:Great to be back at Water Yeat\, nr Coniston
LOCATION:Water Yeat Village Hall\,  Water Yeat \,\,  Ulverston \, Cumbria\, UK\, LA12 8DJ 
END:VEVENT
END:VCALENDAR