BEGIN:VCALENDAR
VERSION:2.0
PRODID:-//AudioTheme 1.6.2
BEGIN:VEVENT
UID:https://classicsingersongwriters.co.uk/sandg/?post_type=audiotheme_gig&#038;p=1076
URL:https://classicsingersongwriters.co.uk/sandg/shows/a-celebration-of-simon-garfunkel-96/
DTSTART;TZID=GMT:20240510T183000
SUMMARY:A Celebration of Simon & Garfunkel
DESCRIPTION:Great to be appearing near Scarborough.
LOCATION:Burniston & Cloughton Village Hall\, Burniston\, nr Scarborough \, Scarborough \, East Yorkshire \, UK \, YO13 0HJ
END:VEVENT
END:VCALENDAR