BEGIN:VCALENDAR
VERSION:2.0
PRODID:-//AudioTheme 1.6.2
BEGIN:VEVENT
UID:https://classicsingersongwriters.co.uk/sandg/?post_type=audiotheme_gig&#038;p=1073
URL:https://classicsingersongwriters.co.uk/sandg/shows/a-celebration-of-simon-garfunkel-95/
DTSTART;TZID=GMT:20240518T183000
SUMMARY:A Celebration of Simon & Garfunkel
LOCATION:Ulleskelf Village Hall\, Main Street\,  Ulleskelf   \, Tadcaster \, \, UK\, LS24 9DU
END:VEVENT
END:VCALENDAR