BEGIN:VCALENDAR
VERSION:2.0
PRODID:-//AudioTheme 1.6.2
BEGIN:VEVENT
UID:http://classicsingersongwriters.co.uk/sandg/?post_type=audiotheme_gig&#038;p=1066
URL:https://classicsingersongwriters.co.uk/sandg/shows/a-celebration-of-simon-garfunkel-94/
DTSTART;TZID=GMT:20240614T183000
SUMMARY:A Celebration of Simon & Garfunkel
DESCRIPTION:Glad to be returning to Holmbridge nr Holmfirth
LOCATION:St David's Hall\,\, Holmbridge\,  \, Holmfirth\,\, West Yorkshire\,\, UK\, HD9 2NQ
END:VEVENT
END:VCALENDAR