BEGIN:VCALENDAR
VERSION:2.0
PRODID:-//AudioTheme 1.6.2
BEGIN:VEVENT
UID:https://classicsingersongwriters.co.uk/sandg/?post_type=audiotheme_gig&#038;p=1109
URL:https://classicsingersongwriters.co.uk/sandg/shows/a-celebration-of-simon-garfunkel-93/
DTSTART;TZID=GMT:20241004T183000
SUMMARY:A Celebration of Simon & Garfunkel
DESCRIPTION:Great to be appearing in Wem
LOCATION:Wem Town Hall\, High Street \, Wem \, Shropshire \, UK \, SY4 5DG
END:VEVENT
END:VCALENDAR