BEGIN:VCALENDAR
VERSION:2.0
PRODID:-//AudioTheme 1.6.2
BEGIN:VEVENT
UID:https://classicsingersongwriters.co.uk/sandg/?post_type=audiotheme_gig&#038;p=1103
URL:https://classicsingersongwriters.co.uk/sandg/shows/a-celebration-of-simon-garfunkel-71/
DTSTART;TZID=GMT:20251004T190000
SUMMARY:A Celebration Of Simon & Garfunkel
DESCRIPTION:Great to be back in East Yorks.
LOCATION:Swanland Village Hall\,\, Main Street\, \, Swanland\, \, East Yorkshire\, \, United Kingdom\, HU14 3QR
END:VEVENT
END:VCALENDAR