BEGIN:VCALENDAR
VERSION:2.0
PRODID:-//AudioTheme 1.6.2
BEGIN:VEVENT
UID:http://classicsingersongwriters.co.uk/sandg/?post_type=audiotheme_gig&#038;p=497
URL:https://classicsingersongwriters.co.uk/sandg/shows/a-celebration-of-simon-garfunkel-7/
DTSTART;TZID=GMT:20170915T183000
SUMMARY:A Celebration of Simon & Garfunkel
DESCRIPTION:Looking forward to returning to do an intimate performance in this well run community arts venue.
LOCATION:Water Yeat Village Hall\, Water Yeat\, Ulverston\, Cumbria\, UK\, LA12 8DJ 
END:VEVENT
END:VCALENDAR