BEGIN:VCALENDAR
VERSION:2.0
PRODID:-//AudioTheme 1.6.2
BEGIN:VEVENT
UID:http://classicsingersongwriters.co.uk/sandg/?post_type=audiotheme_gig&#038;p=468
URL:https://classicsingersongwriters.co.uk/sandg/shows/a-celebration-of-simon-garfunkel-5/
DTSTART;TZID=GMT:20160304T193000
SUMMARY:A Celebration of Simon & Garfunkel
LOCATION:Loweswater Hall\, Loweswater\, Cockermouth\, UK\,  CA130RU. 
END:VEVENT
END:VCALENDAR