BEGIN:VCALENDAR
VERSION:2.0
PRODID:-//AudioTheme 1.6.2
BEGIN:VEVENT
UID:http://classicsingersongwriters.co.uk/sandg/?post_type=audiotheme_gig&#038;p=476
URL:https://classicsingersongwriters.co.uk/sandg/shows/a-celebration-of-simon-garfunkel-4/
DTSTART;TZID=GMT:20250905T183000
SUMMARY:A Celebration of Simon & Garfunkel
DESCRIPTION:Looking forward to our return to St Marks.
LOCATION:St Mark's Church\, Natland Road  \, Natland\, nr Kendal\, Cumbria\, UK\, LA9 7QQ
END:VEVENT
END:VCALENDAR