BEGIN:VCALENDAR
VERSION:2.0
PRODID:-//AudioTheme 1.6.2
BEGIN:VEVENT
UID:http://classicsingersongwriters.co.uk/sandg/?post_type=audiotheme_gig&#038;p=344
URL:https://classicsingersongwriters.co.uk/sandg/shows/a-celebration-of-simon-garfunkel-3/
DTSTART;TZID=GMT:20251003T183000
SUMMARY:A Celebration of Simon & Garfunkel
DESCRIPTION:Always great to be back in New Longton.
LOCATION:New Longton Village Hall\, Boundary Close\, \, Preston\, Lancashire\, United Kingdom\, PR4 4BD
END:VEVENT
END:VCALENDAR