BEGIN:VCALENDAR
VERSION:2.0
PRODID:-//AudioTheme 1.6.2
BEGIN:VEVENT
UID:http://classicsingersongwriters.co.uk/sandg/?post_type=audiotheme_gig&#038;p=340
URL:https://classicsingersongwriters.co.uk/sandg/shows/a-celebration-of-simon-garfunkel-2/
DTSTART;TZID=GMT:20150619T190000
SUMMARY:Windermere Golf Club
LOCATION:Windermere Golf Club \, Cleabarrow\, \, Windermere\, Cumbria\, United Kingdom\, LA23 3BN
END:VEVENT
END:VCALENDAR