BEGIN:VCALENDAR
VERSION:2.0
PRODID:-//AudioTheme 1.6.2
BEGIN:VEVENT
UID:https://classicsingersongwriters.co.uk/sandg/?post_type=audiotheme_gig&#038;p=1211
URL:https://classicsingersongwriters.co.uk/sandg/shows/a-celebration-of-simon-garfunkel-124/
DTSTART;TZID=GMT:20260606T183000
SUMMARY:A Celebration of Simon & Garfunkel
LOCATION:St Mary's Church Nantwich\, Church Walk \, Nantwich \, Cheshire \, United Kingdom\, CW5 5RG
END:VEVENT
END:VCALENDAR