BEGIN:VCALENDAR
VERSION:2.0
PRODID:-//AudioTheme 1.6.2
BEGIN:VEVENT
UID:https://classicsingersongwriters.co.uk/sandg/?post_type=audiotheme_gig&#038;p=1209
URL:https://classicsingersongwriters.co.uk/sandg/shows/a-celebration-of-simon-garfunkel-123/
DTSTART;TZID=GMT:20260605T183000
SUMMARY:A Celebration of Simon & Garfunkel
DESCRIPTION:Great to be appearing at this well established little theatre.
LOCATION:Knutsford Little Theatre\, 18 Queen Street \, Knutsford \, Cheshire \, United Kingdom\, WA16 6HZ
END:VEVENT
END:VCALENDAR