BEGIN:VCALENDAR
VERSION:2.0
PRODID:-//AudioTheme 1.6.2
BEGIN:VEVENT
UID:https://classicsingersongwriters.co.uk/sandg/?post_type=audiotheme_gig&#038;p=1206
URL:https://classicsingersongwriters.co.uk/sandg/shows/a-celebration-of-simon-garfunkel-122/
DTSTART;TZID=GMT:20260530T183000
SUMMARY:A Celebration of Simon & Garfunkel
LOCATION:Great Sutton Village Hall\, Old Chester Road \, Chester \, Cheshire \, United Kingdom\, CH66 3NZ
END:VEVENT
END:VCALENDAR