BEGIN:VCALENDAR
VERSION:2.0
PRODID:-//AudioTheme 1.6.2
BEGIN:VEVENT
UID:https://classicsingersongwriters.co.uk/sandg/?post_type=audiotheme_gig&#038;p=1204
URL:https://classicsingersongwriters.co.uk/sandg/shows/a-celebration-of-simon-garfunkel-121/
DTSTART;TZID=GMT:20260501T183000
SUMMARY:A Celebration of Simon & Garfunkel
LOCATION:Ingleborough Community Centre\, Main Street \, Ingleton \, Carnforth \, United Kingdom\, LA6 3HG
END:VEVENT
END:VCALENDAR