BEGIN:VCALENDAR
VERSION:2.0
PRODID:-//AudioTheme 1.6.2
BEGIN:VEVENT
UID:https://classicsingersongwriters.co.uk/sandg/?post_type=audiotheme_gig&#038;p=1150
URL:https://classicsingersongwriters.co.uk/sandg/shows/a-celebration-of-simon-garfunkel-111/
DTSTART;TZID=GMT:20250726T000000
SUMMARY:A Celebration of Simon & Garfunkel
LOCATION:Masham Town Hall\, Market Pl\, Masham\,  \, Ripon\, North Yorkshire \, HG4 4DY
END:VEVENT
END:VCALENDAR