BEGIN:VCALENDAR
VERSION:2.0
PRODID:-//AudioTheme 1.6.2
BEGIN:VEVENT
UID:https://classicsingersongwriters.co.uk/sandg/?post_type=audiotheme_gig&#038;p=1148
URL:https://classicsingersongwriters.co.uk/sandg/shows/a-celebration-of-simon-garfunkel-110/
DTSTART;TZID=GMT:20261204T193000
SUMMARY:A Celebration of Simon & Garfunkel
LOCATION:Marsden Mechanics\, Peel St\, Marsden\,  \, Huddersfield \, West Yorkshire \, United Kingdom\, HD7 6BW 
END:VEVENT
END:VCALENDAR