BEGIN:VCALENDAR
VERSION:2.0
PRODID:-//AudioTheme 1.6.2
BEGIN:VEVENT
UID:https://classicsingersongwriters.co.uk/sandg/?post_type=audiotheme_gig&#038;p=1142
URL:https://classicsingersongwriters.co.uk/sandg/shows/a-celebration-of-simon-garfunkel-109/
DTSTART;TZID=GMT:20250411T183000
SUMMARY:A Celebration of Simon & Garfunkel
DESCRIPTION:Great to be supporting this venue
LOCATION:Leigh Film Factory\, 4th Floor\, Spinners Mill\, Park Ln\, \, Leigh \, Greater Manchester \, UK\, WN7 2LB
END:VEVENT
END:VCALENDAR